BEGIN:VCALENDAR
VERSION:2.0
CALSCALE:GREGORIAN
METHOD:PUBLISH
X-WR-TIMEZONE:Australia/Sydney
BEGIN:VTIMEZONE
TZID:Australia/Sydney
BEGIN:STANDARD
TZNAME:AEST
DTSTART:19700101T000000
TZOFFSETFROM:+1100
TZOFFSETTO:+1000
END:STANDARD
END:VTIMEZONE
BEGIN:VEVENT
DTSTART;TZID=Australia/Sydney:20260401T080000
DTEND;TZID=Australia/Sydney:20260401T085000
DTSTAMP:20260423T021314
UID:824
SUMMARY:Prep Breakfast
DESCRIPTION:




As part of our camping program, Prep students will participate in the Taylors Hill Primary School&amp;nbsp;Prep Breakfast.This is an exciting event where Prep students and teachers come to school early, dressed in their pyjamas to share a meal together. This experience helps to promote a sense of community, builds independence and strengthens social skills.


SEQUENCE:0
STATUS:CONFIRMED
TRANSP:OPAQUE
END:VEVENT
END:VCALENDAR