BEGIN:VCALENDAR
VERSION:2.0
CALSCALE:GREGORIAN
METHOD:PUBLISH
X-WR-TIMEZONE:Australia/Sydney
BEGIN:VTIMEZONE
TZID:Australia/Sydney
BEGIN:STANDARD
TZNAME:AEST
END:STANDARD
END:VTIMEZONE
BEGIN:VEVENT
DTSTART;TZID=Australia/Sydney:20260424T001500
DTEND;TZID=Australia/Sydney:20260424T134500
RRULE:FREQ=WEEKLY;UNTIL=20260626T134500;BYDAY=FR
DTSTAMP:20260423T001725
UID:826
SUMMARY:Grade 2 Swimming Program
DESCRIPTION:




As part of the Health and Physical Education Program, all Grade 2 students are encouraged to participate in the Swimming Program during Term 2.


SEQUENCE:0
STATUS:CONFIRMED
TRANSP:OPAQUE
END:VEVENT
END:VCALENDAR