BEGIN:VCALENDAR
VERSION:2.0
CALSCALE:GREGORIAN
METHOD:PUBLISH
X-WR-TIMEZONE:Australia/Sydney
BEGIN:VTIMEZONE
TZID:Australia/Sydney
BEGIN:STANDARD
TZNAME:AEST
DTSTART:19700101T000000
TZOFFSETFROM:+1100
TZOFFSETTO:+1000
END:STANDARD
END:VTIMEZONE
BEGIN:VEVENT
DTSTART;TZID=Australia/Sydney:20260504T083000
DTEND;TZID=Australia/Sydney:20260504T150000
DTSTAMP:20260423T014837
UID:827
SUMMARY:Grade 4 Camp
DESCRIPTION:




The THPS Camping Program is an integral part of the school curriculum and all students are encouraged to attend.&amp;nbsp;Camp assists in the academic development of students and also offers opportunities for growth in the areas of cooperation, independence, persistence and responsibility. We aim to reinforce, complement and extend the learning opportunities for our students beyond the classroom and help to strengthen the relationships between students and with teachers.


SEQUENCE:0
STATUS:CONFIRMED
TRANSP:OPAQUE
END:VEVENT
END:VCALENDAR