BEGIN:VCALENDAR
VERSION:2.0
CALSCALE:GREGORIAN
METHOD:PUBLISH
X-WR-TIMEZONE:Australia/Sydney
BEGIN:VTIMEZONE
TZID:Australia/Sydney
BEGIN:STANDARD
TZNAME:AEST
DTSTART:19700101T000000
TZOFFSETFROM:+1100
TZOFFSETTO:+1000
END:STANDARD
END:VTIMEZONE
BEGIN:VEVENT
DTSTART;TZID=Australia/Sydney:20260527T000000
DTEND;TZID=Australia/Sydney:20260527T003000
DTSTAMP:20260423T015656
UID:832
SUMMARY:National Simultaneous Story Time
DESCRIPTION:




On Wednesday 27 May 2026 at 12.00 pm Taylors Hill Primary School will join in as millions of children, parents, teachers, and library lovers across Australia and beyond will come together to read Luna Roo at the same time &amp;mdash; celebrating the joy of reading, storytelling and connection.&amp;nbsp;


SEQUENCE:0
STATUS:CONFIRMED
TRANSP:OPAQUE
END:VEVENT
END:VCALENDAR