BEGIN:VCALENDAR
VERSION:2.0
CALSCALE:GREGORIAN
METHOD:PUBLISH
X-WR-TIMEZONE:Australia/Sydney
BEGIN:VTIMEZONE
TZID:Australia/Sydney
BEGIN:STANDARD
TZNAME:AEST
DTSTART:19700101T000000
TZOFFSETFROM:+1100
TZOFFSETTO:+1000
END:STANDARD
END:VTIMEZONE
BEGIN:VEVENT
DTSTART;TZID=Australia/Sydney:20260625T163000
DTEND;TZID=Australia/Sydney:20260625T190000
DTSTAMP:20260423T014413
UID:836
SUMMARY:Student Disco
DESCRIPTION:




Prep, Grade 1 and Grade 2&amp;nbsp;students will hit the dance floor from&amp;nbsp;4:30pm - 5:30pm.Grades 3 to 6&amp;nbsp;students will rock it out from&amp;nbsp;6:00pm - 7:00pm.This event brings students together for a night of community fun to build confidence, connect and make positive relationships. It also reinforces The Arts curriculum, allowing students to express their creativity and emotions through dance and movement.


SEQUENCE:0
STATUS:CONFIRMED
TRANSP:OPAQUE
END:VEVENT
END:VCALENDAR